BEGIN:VCALENDAR
VERSION:2.0
PRODID:SchoolNow
CALSCALE:GREGORIAN
BEGIN:VEVENT
UID:f053c856-30ad-11ea-93a9-1272f9163137
DTSTAMP:20200724T195755Z
SUMMARY:Board of Education Meeting\, Virtual
URL;VALUE=URI:https://www.district90.org/boe/calendar/2171430/board-of-educ
 ation-meeting-roosevelt-mpr
DTSTART:20200615T230000Z
DTEND:20200616T003000Z
END:VEVENT
END:VCALENDAR
