BEGIN:VCALENDAR
VERSION:2.0
PRODID:SchoolNow
CALSCALE:GREGORIAN
BEGIN:VEVENT
UID:f731b1ea-30aa-11ea-a08d-0a32578b488b
DTSTAMP:20200617T173925Z
SUMMARY:Committee of the Whole Meeting\, Virtual
URL;VALUE=URI:https://www.district90.org/boe/calendar/2171374/committee-of-
 the-whole-meeting-virtual
DTSTART:20200602T230000Z
DTEND:20200603T003000Z
END:VEVENT
END:VCALENDAR
