BEGIN:VCALENDAR
VERSION:2.0
PRODID:SchoolNow
CALSCALE:GREGORIAN
BEGIN:VEVENT
UID:f920fe3a-30a9-11ea-a747-12597826f3bd
DTSTAMP:20200617T174044Z
SUMMARY:Board of Education Meeting\, Virtual
URL;VALUE=URI:https://www.district90.org/boe/calendar/2171370/board-of-educ
 ation-meeting-virtual
DTSTART:20200518T230200Z
DTEND:20200519T003000Z
END:VEVENT
END:VCALENDAR
