BEGIN:VCALENDAR
VERSION:2.0
PRODID:SchoolNow
CALSCALE:GREGORIAN
BEGIN:VEVENT
UID:25a78148-30a7-11ea-ad27-0ab8d8dc94b5
DTSTAMP:20200422T192233Z
SUMMARY:Committee of the Whole Meeting\, Roosevelt MPR
URL;VALUE=URI:https://www.district90.org/boe/calendar/2171361/committee-of-
 the-whole-meeting-roosevelt-mpr
DTSTART:20200408T000000Z
DTEND:20200408T013000Z
END:VEVENT
END:VCALENDAR
