BEGIN:VCALENDAR
VERSION:2.0
PRODID:SchoolNow
CALSCALE:GREGORIAN
BEGIN:VEVENT
UID:bba7620e-30a6-11ea-92cb-12b96898ee25
DTSTAMP:20200422T192044Z
SUMMARY:Board of Education Meeting\, Roosevelt MPR
URL;VALUE=URI:https://www.district90.org/boe/calendar/2171360/board-of-educ
 ation-meeting-roosevelt-mpr
DTSTART:20200317T000000Z
DTEND:20200317T013000Z
END:VEVENT
END:VCALENDAR
