BEGIN:VCALENDAR
VERSION:2.0
PRODID:SchoolNow
CALSCALE:GREGORIAN
BEGIN:VEVENT
UID:3787d908-30a2-11ea-818b-0ab9f8af5147
DTSTAMP:20200309T204558Z
SUMMARY:Committee of the Whole\, Roosevelt MPR
URL;VALUE=URI:https://www.district90.org/boe/calendar/2171338/committee-of-
 the-whole-roosevelt-mpr
DTSTART:20200304T010000Z
DTEND:20200304T023000Z
END:VEVENT
END:VCALENDAR
