BEGIN:VCALENDAR
VERSION:2.0
PRODID:SchoolNow
CALSCALE:GREGORIAN
BEGIN:VEVENT
UID:3fcd38d4-30a1-11ea-9d3b-0a973a0f976f
DTSTAMP:20200318T143326Z
SUMMARY:Board of Education Meeting\, Roosevelt MPR
URL;VALUE=URI:https://www.district90.org/boe/calendar/2171335/board-of-educ
 ation-meeting-roosevelt-mpr
DTSTART:20200122T010000Z
DTEND:20200122T023000Z
END:VEVENT
END:VCALENDAR
