BEGIN:VCALENDAR
VERSION:2.0
PRODID:SchoolNow
CALSCALE:GREGORIAN
BEGIN:VEVENT
UID:1bc01fa0-3011-11ea-8494-1273f2e5f105
DTSTAMP:20200122T200320Z
SUMMARY:Committee of the Whole Meeting\, Roosevelt MPR
URL;VALUE=URI:https://www.district90.org/boe/calendar/2170617/committee-of-
 the-whole-meeting-roosevelt-llc
DTSTART:20200108T010000Z
DTEND:20200108T023000Z
END:VEVENT
END:VCALENDAR
