BEGIN:VCALENDAR
VERSION:2.0
PRODID:SchoolNow
CALSCALE:GREGORIAN
BEGIN:VEVENT
UID:37924cec-dbe5-11e9-a305-12fb0c0d5da0
DTSTAMP:20190920T203002Z
SUMMARY:Budget Hearing
URL;VALUE=URI:https://www.district90.org/boe/calendar/2101744/budget-hearin
 g
DTSTART:20190924T000000Z
DTEND:20190924T000500Z
END:VEVENT
END:VCALENDAR
