BEGIN:VCALENDAR
VERSION:2.0
PRODID:SchoolNow
CALSCALE:GREGORIAN
BEGIN:VEVENT
UID:e663252c-ae2f-11e9-a443-0a32482749d6
DTSTAMP:20190926T201203Z
SUMMARY:Special Board of Education Meeting -- Board Retreat
URL;VALUE=URI:https://www.district90.org/boe/calendar/2037108/special-board
 -of-education-meeting-board-retreat
DTSTART:20190814T200000Z
DTEND:20190815T010000Z
END:VEVENT
END:VCALENDAR
