BEGIN:VCALENDAR
VERSION:2.0
PRODID:SchoolNow
CALSCALE:GREGORIAN
BEGIN:VEVENT
UID:1da65b4e-a688-11e9-9d7b-12da892eec00
DTSTAMP:20200122T200221Z
SUMMARY:Board of Education Meeting\, Roosevelt LLC
URL;VALUE=URI:https://www.district90.org/boe/calendar/2031877/board-of-educ
 ation-meeting-roosevelt-llc
DTSTART:20191217T010000Z
DTEND:20191217T023000Z
END:VEVENT
END:VCALENDAR
