BEGIN:VCALENDAR
VERSION:2.0
PRODID:SchoolNow
CALSCALE:GREGORIAN
BEGIN:VEVENT
UID:594d5b30-a687-11e9-a56d-125751f33354
DTSTAMP:20191217T174616Z
SUMMARY:Board of Education Meeting\, Roosevelt LLC
URL;VALUE=URI:https://www.district90.org/boe/calendar/2031869/board-of-educ
 ation-meeting-roosevelt-llc
DTSTART:20191119T010000Z
DTEND:20191119T023000Z
END:VEVENT
END:VCALENDAR
