BEGIN:VCALENDAR
VERSION:2.0
PRODID:SchoolNow
CALSCALE:GREGORIAN
BEGIN:VEVENT
UID:d931c3be-a686-11e9-be34-12fbf370949a
DTSTAMP:20191126T153008Z
SUMMARY:Committee of the Whole Meeting\, Roosevelt LLC
URL;VALUE=URI:https://www.district90.org/boe/calendar/2031868/committee-of-
 the-whole-meeting-roosevelt-llc
DTSTART:20191106T010000Z
DTEND:20191106T023000Z
END:VEVENT
END:VCALENDAR
