BEGIN:VCALENDAR
VERSION:2.0
PRODID:SchoolNow
CALSCALE:GREGORIAN
BEGIN:VEVENT
UID:ea98fbf8-a682-11e9-bbcc-12ff1f8a3916
DTSTAMP:20191126T152901Z
SUMMARY:Board of Education Meeting\, Roosevelt LLC
URL;VALUE=URI:https://www.district90.org/boe/calendar/2031849/board-of-educ
 ation-meeting-roosevelt-llc
DTSTART:20191022T000000Z
DTEND:20191022T013000Z
END:VEVENT
END:VCALENDAR
