BEGIN:VCALENDAR
VERSION:2.0
PRODID:SchoolNow
CALSCALE:GREGORIAN
BEGIN:VEVENT
UID:eecebf1a-a681-11e9-998a-0ad9e02171ae
DTSTAMP:20190920T202510Z
SUMMARY:Board of Education Meeting\, Roosevelt LLC
URL;VALUE=URI:https://www.district90.org/boe/calendar/2031844/board-of-educ
 ation-meeting-roosevelt-llc
DTSTART:20190924T000500Z
DTEND:20190924T013000Z
END:VEVENT
END:VCALENDAR
