BEGIN:VCALENDAR
VERSION:2.0
PRODID:SchoolNow
CALSCALE:GREGORIAN
BEGIN:VEVENT
UID:7e559baa-a681-11e9-abcc-1201c2ff3d98
DTSTAMP:20190821T162903Z
SUMMARY:Board of Education Special Meeting\, Roosevelt LLC
URL;VALUE=URI:https://www.district90.org/boe/calendar/2031840/board-of-educ
 ation-special-meeting-roosevelt-llc
DTSTART:20190715T233000Z
DTEND:20190716T000000Z
END:VEVENT
END:VCALENDAR
