BEGIN:VCALENDAR
VERSION:2.0
PRODID:SchoolNow
CALSCALE:GREGORIAN
BEGIN:VEVENT
UID:fc5c751a-a680-11e9-bff0-0a66794eb110
DTSTAMP:20190926T200807Z
SUMMARY:Committee of the Whole Meeting\, Roosevelt LLC
URL;VALUE=URI:https://www.district90.org/boe/calendar/2031836/committee-of-
 the-whole-meeting-roosevelt-llc
DTSTART:20190904T000000Z
DTEND:20190904T013000Z
END:VEVENT
END:VCALENDAR
