BEGIN:VCALENDAR
VERSION:2.0
PRODID:SchoolNow
CALSCALE:GREGORIAN
BEGIN:VEVENT
UID:9b98452e-a680-11e9-8913-0a22e1fbbe7c
DTSTAMP:20190926T201017Z
SUMMARY:Board of Education Meeting\, Roosevelt LLC
URL;VALUE=URI:https://www.district90.org/boe/calendar/2031832/board-of-educ
 ation-meeting-roosevelt-llc
DTSTART:20190820T000000Z
DTEND:20190820T013000Z
END:VEVENT
END:VCALENDAR
