BEGIN:VCALENDAR
VERSION:2.0
PRODID:SchoolNow
CALSCALE:GREGORIAN
BEGIN:VEVENT
UID:e1cab9f4-6838-11e9-a6c7-121d313206b6
DTSTAMP:20190520T220231Z
SUMMARY:Board of Education Reorganizational Meeting\, Roosevelt LLC
URL;VALUE=URI:https://www.district90.org/boe/calendar/1976290/board-of-educ
 ation-reorganizational-meeting-roosevelt-llc
DTSTART:20190430T001000Z
DTEND:20190430T013000Z
END:VEVENT
END:VCALENDAR
