BEGIN:VCALENDAR
VERSION:2.0
PRODID:SchoolNow
CALSCALE:GREGORIAN
BEGIN:VEVENT
UID:5d98062a-2b00-11e9-89cf-1232d8ccb178
DTSTAMP:20190221T025238Z
SUMMARY:Committee of the Whole Meeting\, Roosevelt Auditorium
URL;VALUE=URI:https://www.district90.org/boe/calendar/1941716/committee-of-
 the-whole-meeting-roosevelt-auditorium
DTSTART:20190213T010000Z
DTEND:20190213T023000Z
END:VEVENT
END:VCALENDAR
