BEGIN:VCALENDAR
VERSION:2.0
PRODID:SchoolNow
CALSCALE:GREGORIAN
BEGIN:VEVENT
UID:95f50c40-fff2-11e8-a232-12f914e217bc
DTSTAMP:20181214T225316Z
SUMMARY:Public Hearing
URL;VALUE=URI:https://www.district90.org/boe/calendar/1919893/public-hearin
 g
DTSTART:20181218T010000Z
DTEND:20181218T011500Z
END:VEVENT
END:VCALENDAR
