BEGIN:VCALENDAR
VERSION:2.0
PRODID:SchoolNow
CALSCALE:GREGORIAN
BEGIN:VEVENT
UID:e8f97326-f8d2-11e8-b164-0a1425b61210
DTSTAMP:20190107T021143Z
SUMMARY:NEP Community Learning Event
URL;VALUE=URI:https://www.district90.org/boe/calendar/1913398/nep-community
 -learning-event
DTSTART:20181208T143000Z
DTEND:20181208T173000Z
END:VEVENT
END:VCALENDAR
