BEGIN:VCALENDAR
VERSION:2.0
PRODID:SchoolNow
CALSCALE:GREGORIAN
BEGIN:VEVENT
UID:56374b62-b863-11e8-baec-12f89821f2d2
DTSTAMP:20181018T155923Z
SUMMARY:Budget Hearing\, Roosevelt LLC
URL;VALUE=URI:https://www.district90.org/boe/calendar/1868582/budget-hearin
 g-roosevelt-llc
DTSTART:20180918T000000Z
DTEND:20180918T001500Z
END:VEVENT
END:VCALENDAR
