BEGIN:VCALENDAR
VERSION:2.0
PRODID:SchoolNow
CALSCALE:GREGORIAN
BEGIN:VEVENT
UID:ac502a66-b1f9-11e8-89af-12a4265c0000
DTSTAMP:20190724T163806Z
SUMMARY:Board of Education Meeting\, Roosevelt LLC
URL;VALUE=URI:https://www.district90.org/boe/calendar/1856449/board-of-educ
 ation-meeting-roosevelt-llc
DTSTART:20190618T000000Z
DTEND:20190618T013000Z
END:VEVENT
END:VCALENDAR
