BEGIN:VCALENDAR
VERSION:2.0
PRODID:SchoolNow
CALSCALE:GREGORIAN
BEGIN:VEVENT
UID:402b5522-b1f9-11e8-be02-12a4265c0000
DTSTAMP:20190617T205626Z
SUMMARY:Committee of the Whole Meeting\, LLC
URL;VALUE=URI:https://www.district90.org/boe/calendar/1856448/committee-of-
 the-whole-meeting-llc
DTSTART:20190605T000000Z
DTEND:20190605T013000Z
END:VEVENT
END:VCALENDAR
