BEGIN:VCALENDAR
VERSION:2.0
PRODID:SchoolNow
CALSCALE:GREGORIAN
BEGIN:VEVENT
UID:0bf5cb0c-b1f9-11e8-94c1-1275a22434c6
DTSTAMP:20190524T185834Z
SUMMARY:Board of Education Meeting\, Roosevelt LLC
URL;VALUE=URI:https://www.district90.org/boe/calendar/1856447/board-of-educ
 ation-meeting-roosevelt-llc
DTSTART:20190521T000000Z
DTEND:20190521T013000Z
END:VEVENT
END:VCALENDAR
