BEGIN:VCALENDAR
VERSION:2.0
PRODID:SchoolNow
CALSCALE:GREGORIAN
BEGIN:VEVENT
UID:cb2c7760-b1f8-11e8-8ae8-1275a22434c6
DTSTAMP:20190201T212036Z
SUMMARY:Committee of the Whole Meeting\, Roosevelt LLC
URL;VALUE=URI:https://www.district90.org/boe/calendar/1856446/committee-of-
 the-whole-meeting-roosevelt-llc
DTSTART:20190507T000000Z
DTEND:20190507T013000Z
END:VEVENT
END:VCALENDAR
