BEGIN:VCALENDAR
VERSION:2.0
PRODID:SchoolNow
CALSCALE:GREGORIAN
BEGIN:VEVENT
UID:9024df86-b1f8-11e8-a836-0a13a277bf8a
DTSTAMP:20190424T180741Z
SUMMARY:Board of Education Meeting\, Roosevelt LLC
URL;VALUE=URI:https://www.district90.org/boe/calendar/1856445/board-of-educ
 ation-meeting-roosevelt-llc
DTSTART:20190416T000000Z
DTEND:20190416T013000Z
END:VEVENT
END:VCALENDAR
