BEGIN:VCALENDAR
VERSION:2.0
PRODID:SchoolNow
CALSCALE:GREGORIAN
BEGIN:VEVENT
UID:7dc29618-b1f7-11e8-be31-0a707569ccb4
DTSTAMP:20190424T175204Z
SUMMARY:Committee of the Whole Meeting\, Roosevelt LLC
URL;VALUE=URI:https://www.district90.org/boe/calendar/1856442/committee-of-
 the-whole-meeting-roosevelt-llc
DTSTART:20190403T000000Z
DTEND:20190403T013000Z
END:VEVENT
END:VCALENDAR
