BEGIN:VCALENDAR
VERSION:2.0
PRODID:SchoolNow
CALSCALE:GREGORIAN
BEGIN:VEVENT
UID:fdf9ba2e-b1f6-11e8-bb92-0aee70dac068
DTSTAMP:20190320T194058Z
SUMMARY:Committee of the Whole Meeting\, Roosevelt LLC
URL;VALUE=URI:https://www.district90.org/boe/calendar/1856439/committee-of-
 the-whole-meeting-roosevelt-llc
DTSTART:20190306T010000Z
DTEND:20190306T023000Z
END:VEVENT
END:VCALENDAR
