BEGIN:VCALENDAR
VERSION:2.0
PRODID:SchoolNow
CALSCALE:GREGORIAN
BEGIN:VEVENT
UID:94539bc6-b1f6-11e8-aa72-0a9950169942
DTSTAMP:20190221T025206Z
SUMMARY:Committee of the Whole Meeting\, Roosevelt LLC
URL;VALUE=URI:https://www.district90.org/boe/calendar/1856437/committee-of-
 the-whole-meeting-roosevelt-llc
DTSTART:20190206T010000Z
DTEND:20190206T023000Z
END:VEVENT
END:VCALENDAR
