BEGIN:VCALENDAR
VERSION:2.0
PRODID:SchoolNow
CALSCALE:GREGORIAN
BEGIN:VEVENT
UID:502752c6-b1f6-11e8-9e29-12e792917fae
DTSTAMP:20190221T030928Z
SUMMARY:Board of Education Meeting\, Roosevelt LLC
URL;VALUE=URI:https://www.district90.org/boe/calendar/1856436/board-of-educ
 ation-meeting-roosevelt-llc
DTSTART:20190123T010000Z
DTEND:20190123T023000Z
END:VEVENT
END:VCALENDAR
