BEGIN:VCALENDAR
VERSION:2.0
PRODID:SchoolNow
CALSCALE:GREGORIAN
BEGIN:VEVENT
UID:0bbb9df4-b1f6-11e8-9eeb-12e792917fae
DTSTAMP:20190123T172902Z
SUMMARY:Committee of the Whole Meeting\, Oak Park and River Forest High Sch
 ool\, 201 Scoville Ave.\, Oak Park
URL;VALUE=URI:https://www.district90.org/boe/calendar/1856435/committee-of-
 the-whole-meeting-oak-park-and-river-forest-high-school-201-scoville-ave-o
 ak-park
DTSTART:20190109T010000Z
DTEND:20190109T023000Z
END:VEVENT
END:VCALENDAR
