BEGIN:VCALENDAR
VERSION:2.0
PRODID:SchoolNow
CALSCALE:GREGORIAN
BEGIN:VEVENT
UID:b05d7f90-b1f5-11e8-9e91-0ae6ee763c4a
DTSTAMP:20190123T172629Z
SUMMARY:Board of Education Meeting\, Roosevelt LLC
URL;VALUE=URI:https://www.district90.org/boe/calendar/1856433/board-of-educ
 ation-meeting-roosevelt-llc
DTSTART:20181218T010000Z
DTEND:20181218T023000Z
END:VEVENT
END:VCALENDAR
