BEGIN:VCALENDAR
VERSION:2.0
PRODID:SchoolNow
CALSCALE:GREGORIAN
BEGIN:VEVENT
UID:60c022bc-b1f5-11e8-b1bc-1270ee05e572
DTSTAMP:20190107T020954Z
SUMMARY:Committee of the Whole Meeting\, Roosevelt LLC
URL;VALUE=URI:https://www.district90.org/boe/calendar/1856431/committee-of-
 the-whole-meeting-roosevelt-llc
DTSTART:20181205T010000Z
DTEND:20181205T023000Z
END:VEVENT
END:VCALENDAR
