BEGIN:VCALENDAR
VERSION:2.0
PRODID:SchoolNow
CALSCALE:GREGORIAN
BEGIN:VEVENT
UID:2483920c-b1f5-11e8-8d13-0a5635eee67e
DTSTAMP:20190107T020725Z
SUMMARY:Board of Education Meeting\, Roosevelt LLC
URL;VALUE=URI:https://www.district90.org/boe/calendar/1856430/board-of-educ
 ation-meeting-roosevelt-llc
DTSTART:20181120T010000Z
DTEND:20181120T023000Z
END:VEVENT
END:VCALENDAR
