BEGIN:VCALENDAR
VERSION:2.0
PRODID:SchoolNow
CALSCALE:GREGORIAN
BEGIN:VEVENT
UID:e6ed2dc2-b1f4-11e8-b170-12a4265c0000
DTSTAMP:20181126T031235Z
SUMMARY:Committee of the Whole Meeting\, Roosevelt LLC
URL;VALUE=URI:https://www.district90.org/boe/calendar/1856428/committee-of-
 the-whole-meeting-roosevelt-llc
DTSTART:20181031T000000Z
DTEND:20181031T013000Z
END:VEVENT
END:VCALENDAR
