BEGIN:VCALENDAR
VERSION:2.0
PRODID:SchoolNow
CALSCALE:GREGORIAN
BEGIN:VEVENT
UID:b2787dda-b1f4-11e8-a79f-0ae6ee763c4a
DTSTAMP:20181126T030930Z
SUMMARY:Board of Education Meeting\, Roosevelt LLC
URL;VALUE=URI:https://www.district90.org/boe/calendar/1856427/board-of-educ
 ation-meeting-roosevelt-llc
DTSTART:20181016T000000Z
DTEND:20181016T013000Z
END:VEVENT
END:VCALENDAR
