BEGIN:VCALENDAR
VERSION:2.0
PRODID:SchoolNow
CALSCALE:GREGORIAN
BEGIN:VEVENT
UID:6acfbe4e-b1f4-11e8-9256-1275a22434c6
DTSTAMP:20181018T155246Z
SUMMARY:Committee of the Whole Meeting\, Roosevelt LLC
URL;VALUE=URI:https://www.district90.org/boe/calendar/1856426/committee-of-
 the-whole-meeting-roosevelt-llc
DTSTART:20181003T000000Z
DTEND:20181003T013000Z
END:VEVENT
END:VCALENDAR
