BEGIN:VCALENDAR
VERSION:2.0
PRODID:SchoolNow
CALSCALE:GREGORIAN
BEGIN:VEVENT
UID:fc574cb6-b09a-11e8-9ad2-12c02fe79702
DTSTAMP:20180914T210650Z
SUMMARY:Board of Education Meeting\, Roosevelt LLC
URL;VALUE=URI:https://www.district90.org/boe/calendar/1855172/board-of-educ
 ation-meeting-roosevelt-llc
DTSTART:20180918T000000Z
DTEND:20180918T013000Z
END:VEVENT
END:VCALENDAR
