BEGIN:VCALENDAR
VERSION:2.0
PRODID:SchoolNow
CALSCALE:GREGORIAN
BEGIN:VEVENT
UID:395edc60-b09a-11e8-a14c-0a86977d0002
DTSTAMP:20181018T160443Z
SUMMARY:Committee of the Whole/Town Hall Meeting ~ Safety and Security in D
 istrict 90
LOCATION:Lincoln School Auditorium
URL;VALUE=URI:https://www.district90.org/boe/calendar/1855156/committee-of-
 the-whole-town-hall-meeting-safety-and-security-in-district-90
DTSTART:20180905T000000Z
DTEND:20180905T013000Z
END:VEVENT
END:VCALENDAR
