BEGIN:VCALENDAR
VERSION:2.0
PRODID:SchoolNow
CALSCALE:GREGORIAN
BEGIN:VEVENT
UID:d337fd48-aae7-11e8-aa6a-125edfbe93f2
DTSTAMP:20180920T154208Z
SUMMARY:Special Board of Education Meeting - Board Retreat
URL;VALUE=URI:https://www.district90.org/boe/calendar/1849082/special-board
 -of-education-meeting-board-retreat
DTSTART:20180830T200000Z
DTEND:20180831T010000Z
END:VEVENT
END:VCALENDAR
