BEGIN:VCALENDAR
VERSION:2.0
PRODID:SchoolNow
CALSCALE:GREGORIAN
BEGIN:VEVENT
UID:691bd17e-87d2-11e8-820d-0aacb48f77a2
DTSTAMP:20180823T174747Z
SUMMARY:Special Meeting of the Board of Education\, Roosevelt LLC
URL;VALUE=URI:https://www.district90.org/boe/calendar/1808371/special-board
 -of-education-meeting-roosevelt-llc
DTSTART:20180716T233000Z
DTEND:20180717T000000Z
END:VEVENT
END:VCALENDAR
