BEGIN:VCALENDAR
VERSION:2.0
PRODID:SchoolNow
CALSCALE:GREGORIAN
BEGIN:VEVENT
UID:a0368394-7598-11e8-bdcc-1277ff145040
DTSTAMP:20180920T154043Z
SUMMARY:Board of Education Meeting\, Roosevelt LLC
URL;VALUE=URI:https://www.district90.org/boe/calendar/1800244/board-of-educ
 ation-meeting-roosevelt-llc
DTSTART:20180821T000000Z
DTEND:20180821T013000Z
END:VEVENT
END:VCALENDAR
