BEGIN:VCALENDAR
VERSION:2.0
PRODID:SchoolNow
CALSCALE:GREGORIAN
BEGIN:VEVENT
UID:b122d046-7597-11e8-8499-12615939fbc8
DTSTAMP:20180823T174953Z
SUMMARY:Board of Education Meeting\, Roosevelt LLC
URL;VALUE=URI:https://www.district90.org/boe/calendar/1800243/board-of-educ
 ation-meeting
DTSTART:20180717T000000Z
DTEND:20180717T013000Z
END:VEVENT
END:VCALENDAR
