BEGIN:VCALENDAR
VERSION:2.0
PRODID:SchoolNow
CALSCALE:GREGORIAN
BEGIN:VEVENT
UID:6ba3cf88-f0b4-11e7-b747-121284af731e
DTSTAMP:20180723T003453Z
SUMMARY:Board of Education Meeting\, Roosevelt LLC
URL;VALUE=URI:https://www.district90.org/boe/calendar/1685046/board-of-educ
 ation-meeting-roosevelt-llc
DTSTART:20180619T000000Z
DTEND:20180619T020000Z
END:VEVENT
END:VCALENDAR
