BEGIN:VCALENDAR
VERSION:2.0
PRODID:SchoolNow
CALSCALE:GREGORIAN
BEGIN:VEVENT
UID:bdad7974-f0b3-11e7-9944-0aa5bcaff260
DTSTAMP:20180621T202801Z
SUMMARY:Board of Education Meeting\, Roosevelt LLC
URL;VALUE=URI:https://www.district90.org/boe/calendar/1685045/board-of-educ
 ation-meeting-roosevelt-llc
DTSTART:20180522T000000Z
DTEND:20180522T020000Z
END:VEVENT
END:VCALENDAR
