BEGIN:VCALENDAR
VERSION:2.0
PRODID:SchoolNow
CALSCALE:GREGORIAN
BEGIN:VEVENT
UID:651e7ac4-f0b3-11e7-99f6-129aa82583c4
DTSTAMP:20180621T202707Z
SUMMARY:Committee of the Whole Meeting\, Roosevelt LLC
URL;VALUE=URI:https://www.district90.org/boe/calendar/1685044/committee-of-
 the-whole-meeting-roosevelt-llc
DTSTART:20180606T000000Z
DTEND:20180606T020000Z
END:VEVENT
END:VCALENDAR
