BEGIN:VCALENDAR
VERSION:2.0
PRODID:SchoolNow
CALSCALE:GREGORIAN
BEGIN:VEVENT
UID:23b7f07a-f0b2-11e7-90d0-0ad2b3e50d82
DTSTAMP:20180524T044935Z
SUMMARY:Committee of the Whole Meeting\, Roosevelt LLC
URL;VALUE=URI:https://www.district90.org/boe/calendar/1685043/committee-of-
 the-whole-meeting-roosevelt-llc
DTSTART:20180502T000000Z
DTEND:20180502T020000Z
END:VEVENT
END:VCALENDAR
